BEGIN:VCALENDAR
VERSION:2.0
PRODID:-//The Infrastructure Lab - ECPv6.15.19//NONSGML v1.0//EN
CALSCALE:GREGORIAN
METHOD:PUBLISH
X-WR-CALNAME:The Infrastructure Lab
X-ORIGINAL-URL:https://infrastructurelab.com
X-WR-CALDESC:Events for The Infrastructure Lab
REFRESH-INTERVAL;VALUE=DURATION:PT1H
X-Robots-Tag:noindex
X-PUBLISHED-TTL:PT1H
BEGIN:VTIMEZONE
TZID:UTC
BEGIN:STANDARD
TZOFFSETFROM:+0000
TZOFFSETTO:+0000
TZNAME:UTC
DTSTART:20220101T000000
END:STANDARD
END:VTIMEZONE
BEGIN:VEVENT
DTSTART;TZID=UTC:20230405T120000
DTEND;TZID=UTC:20230405T130000
DTSTAMP:20260421T192019
CREATED:20230331T203830Z
LAST-MODIFIED:20230420T152457Z
UID:1031-1680696000-1680699600@infrastructurelab.com
SUMMARY:Free Webinar ULI Toronto: 15-minute Communities for the Next 100 Years: Seizing the Opportunity to Create Transit-Oriented Community Legacies
DESCRIPTION:The Ontario government is taking a Transit-Oriented Communities (TOC) approach as it invests $62 billion in transit projects across the Greater Golden Horseshoe – leveraging public dollars to create walkable neighbourhoods with most amenities a short distance from transit stations while adding accessible and affordable housing\, connections between residents and jobs and meeting climate goals – all amidst burgeoning population growth.\nWith jurisdictions across the world watching as we apply this approach to 10+ communities across the region\, how can these TOCs create a legacy for 100 years from now? How can we ensure the decisions made now foster community-level transformation and address the social\, health\, economic\, and environmental outcomes we need now and in the future? \n\nJoin ULI Toronto\, the Future of Infrastructure Group and leaders in infrastructure and development as they draw from their experience and share emerging best practices from a real time TOC in progress – the redevelopment of the Shoppers World Mall in Brampton\, Ontario instigated by the Hurontario LRT coming north from Mississauga. \nYear 2 report supported by the Urban Land Institute Curtis Infrastructure Grant. \n\n\nOverview: \nJohn Allen\, VP and National Infrastructure Practice Lead\, Global Public Affairs\nModerator: \n\nMatti Siemiatycki\, Director\, Infrastructure Institute\, School of Cities\, University of Toronto \nPanelists:\nYvonne Yeung\, CEO\, SDG Strategies\, ULI Curtis Infrastructure Fellow \n\nSamantha Bajc\, Manager\, Development\, RioCan REIT\nRowan Mills\, Senior Vice President\, National Transit Lead\nDalia Bahy\, Acting Manager of Urban Design\, City of Brampton
URL:https://infrastructurelab.com/event/free-webinar-uli-toronto-15-minute-communities-for-the-next-100-years-seizing-the-opportunity-to-create-transit-oriented-community-legacies/
LOCATION:Ontario
CATEGORIES:FIG
ATTACH;FMTTYPE=image/jpeg:https://infrastructurelab.com/wp-content/uploads/2023/04/BRAM-PER-06F2_LowRes.jpg
END:VEVENT
END:VCALENDAR