BEGIN:VCALENDAR
VERSION:2.0
PRODID:-//The Infrastructure Lab - ECPv6.15.19//NONSGML v1.0//EN
CALSCALE:GREGORIAN
METHOD:PUBLISH
X-WR-CALNAME:The Infrastructure Lab
X-ORIGINAL-URL:https://infrastructurelab.com
X-WR-CALDESC:Events for The Infrastructure Lab
REFRESH-INTERVAL;VALUE=DURATION:PT1H
X-Robots-Tag:noindex
X-PUBLISHED-TTL:PT1H
BEGIN:VTIMEZONE
TZID:America/Toronto
BEGIN:DAYLIGHT
TZOFFSETFROM:-0500
TZOFFSETTO:-0400
TZNAME:EDT
DTSTART:20210314T070000
END:DAYLIGHT
BEGIN:STANDARD
TZOFFSETFROM:-0400
TZOFFSETTO:-0500
TZNAME:EST
DTSTART:20211107T060000
END:STANDARD
BEGIN:DAYLIGHT
TZOFFSETFROM:-0500
TZOFFSETTO:-0400
TZNAME:EDT
DTSTART:20220313T070000
END:DAYLIGHT
BEGIN:STANDARD
TZOFFSETFROM:-0400
TZOFFSETTO:-0500
TZNAME:EST
DTSTART:20221106T060000
END:STANDARD
BEGIN:DAYLIGHT
TZOFFSETFROM:-0500
TZOFFSETTO:-0400
TZNAME:EDT
DTSTART:20230312T070000
END:DAYLIGHT
BEGIN:STANDARD
TZOFFSETFROM:-0400
TZOFFSETTO:-0500
TZNAME:EST
DTSTART:20231105T060000
END:STANDARD
END:VTIMEZONE
BEGIN:VEVENT
DTSTART;TZID=America/Toronto:20220610T180000
DTEND;TZID=America/Toronto:20220610T193000
DTSTAMP:20260422T133835
CREATED:20220707T154613Z
LAST-MODIFIED:20220707T154613Z
UID:565-1654884000-1654889400@infrastructurelab.com
SUMMARY:Learning from Australia’s Infrastructure Audit
DESCRIPTION:The Australian Infrastructure Audit was first conducted by the independent body Infrastructure Australia in 2015 and is now updated every five years. As well as looking at future trends\, and cross-sectoral challenges\, the Audit examined ways to improve industry efficiency\, capacity\, and capability in the sector across Australia. The Audit is also used as the basis to develop the Australian Infrastructure Plan. \nThis discussion aims to draw lessons from Australia’s experience to ensure investments in infrastructure deliver better value and better outcomes.
URL:https://infrastructurelab.com/event/learning-from-australias-infrastructure-audit/
LOCATION:Microsoft Teams\, Invite Only
CATEGORIES:FIG,Invite Only
ATTACH;FMTTYPE=image/png:https://infrastructurelab.com/wp-content/uploads/2022/07/Learning-from-Australia-1.png
END:VEVENT
END:VCALENDAR