BEGIN:VCALENDAR
VERSION:2.0
PRODID:-//The Infrastructure Lab - ECPv6.15.19//NONSGML v1.0//EN
CALSCALE:GREGORIAN
METHOD:PUBLISH
X-WR-CALNAME:The Infrastructure Lab
X-ORIGINAL-URL:https://infrastructurelab.com
X-WR-CALDESC:Events for The Infrastructure Lab
REFRESH-INTERVAL;VALUE=DURATION:PT1H
X-Robots-Tag:noindex
X-PUBLISHED-TTL:PT1H
BEGIN:VTIMEZONE
TZID:UTC
BEGIN:STANDARD
TZOFFSETFROM:+0000
TZOFFSETTO:+0000
TZNAME:UTC
DTSTART:20210101T000000
END:STANDARD
END:VTIMEZONE
BEGIN:VEVENT
DTSTART;TZID=UTC:20221019T173000
DTEND;TZID=UTC:20221019T190000
DTSTAMP:20260422T070332
CREATED:20221012T200814Z
LAST-MODIFIED:20221012T200814Z
UID:1001-1666200600-1666206000@infrastructurelab.com
SUMMARY:Future of Infrastructure Group – Ottawa Reception
DESCRIPTION:On October 19 to mark the Future of Infrastructure Group’s first delegation visit to Ottawa\, the group will be hosting a reception in Ottawa. Please join the members to discuss all things infrastructure. Thank you to Colliers Project Leaders for kindly hosting this event.
URL:https://infrastructurelab.com/event/future-of-infrastructure-group-ottawa-reception/
LOCATION:Colliers Project Leaders\, 150 Isabella St\, Suite 700\, Ottawa\, Ontario\, Canada
CATEGORIES:FIG,Invite Only
ATTACH;FMTTYPE=image/png:https://infrastructurelab.com/wp-content/uploads/2022/10/FutureofInfraGroupOttawa2022.png
END:VEVENT
END:VCALENDAR