BEGIN:VCALENDAR
VERSION:2.0
PRODID:-//The Infrastructure Lab - ECPv6.15.19//NONSGML v1.0//EN
CALSCALE:GREGORIAN
METHOD:PUBLISH
X-WR-CALNAME:The Infrastructure Lab
X-ORIGINAL-URL:https://infrastructurelab.com
X-WR-CALDESC:Events for The Infrastructure Lab
REFRESH-INTERVAL;VALUE=DURATION:PT1H
X-Robots-Tag:noindex
X-PUBLISHED-TTL:PT1H
BEGIN:VTIMEZONE
TZID:America/New_York
BEGIN:DAYLIGHT
TZOFFSETFROM:-0500
TZOFFSETTO:-0400
TZNAME:EDT
DTSTART:20220313T070000
END:DAYLIGHT
BEGIN:STANDARD
TZOFFSETFROM:-0400
TZOFFSETTO:-0500
TZNAME:EST
DTSTART:20221106T060000
END:STANDARD
BEGIN:DAYLIGHT
TZOFFSETFROM:-0500
TZOFFSETTO:-0400
TZNAME:EDT
DTSTART:20230312T070000
END:DAYLIGHT
BEGIN:STANDARD
TZOFFSETFROM:-0400
TZOFFSETTO:-0500
TZNAME:EST
DTSTART:20231105T060000
END:STANDARD
BEGIN:DAYLIGHT
TZOFFSETFROM:-0500
TZOFFSETTO:-0400
TZNAME:EDT
DTSTART:20240310T070000
END:DAYLIGHT
BEGIN:STANDARD
TZOFFSETFROM:-0400
TZOFFSETTO:-0500
TZNAME:EST
DTSTART:20241103T060000
END:STANDARD
END:VTIMEZONE
BEGIN:VEVENT
DTSTART;TZID=America/New_York:20230516T170000
DTEND;TZID=America/New_York:20230516T193000
DTSTAMP:20260421T192403
CREATED:20230504T220316Z
LAST-MODIFIED:20230830T202606Z
UID:1319-1684256400-1684265400@infrastructurelab.com
SUMMARY:Canadian Infrastructure Market Cost Outlook
DESCRIPTION:The last few years have massive price rises across materials and labour in the infrastructure sector driving up project costs and putting some projects at risk. Although some prices of key materials have stabilized the demand for labour remains high\, with certain skills in particular demand. Price volatility\, an ambitious pipeline\, increased investment in the United States\, and busy residential and commercial construction sector are all contributing to unpredictable market.
URL:https://infrastructurelab.com/event/canadian-infrastructure-market-cost-outlook/
LOCATION:Arup\, 121 Bloor Street East\, Suite 900\, Toronto\, Ontario\, M4W 3M5\, Canada
CATEGORIES:FIG,Infrastructure Lab,United Kingdom
ATTACH;FMTTYPE=image/jpeg:https://infrastructurelab.com/wp-content/uploads/2023/05/RICS_InfraLab_CostEvent.jpg
END:VEVENT
END:VCALENDAR