BEGIN:VCALENDAR
VERSION:2.0
PRODID:-//The Infrastructure Lab - ECPv6.15.19//NONSGML v1.0//EN
CALSCALE:GREGORIAN
METHOD:PUBLISH
X-ORIGINAL-URL:https://infrastructurelab.com
X-WR-CALDESC:Events for The Infrastructure Lab
REFRESH-INTERVAL;VALUE=DURATION:PT1H
X-Robots-Tag:noindex
X-PUBLISHED-TTL:PT1H
BEGIN:VTIMEZONE
TZID:UTC
BEGIN:STANDARD
TZOFFSETFROM:+0000
TZOFFSETTO:+0000
TZNAME:UTC
DTSTART:20240101T000000
END:STANDARD
END:VTIMEZONE
BEGIN:VEVENT
DTSTART;TZID=UTC:20250327T083000
DTEND;TZID=UTC:20250327T170000
DTSTAMP:20260422T221729
CREATED:20250312T150041Z
LAST-MODIFIED:20250312T150041Z
UID:1757-1743064200-1743094800@infrastructurelab.com
SUMMARY:Unlocking Digital Twins in Canadian Infrastructure
DESCRIPTION:The Future of Infrastructure Group will be hosting a workshop on enabling greater use of digital twins to benefit infrastructure projects in Canada. This session is to produce recommendations from industry to address any barriers to adoption building on best practices and successes from specific projects in Canada and around the world. \nObjectives: \n\nIdentify barriers to adoption of digital twins in Canada\nGrow broad understanding and provide recommendations to support government adoption of digital twins across the project lifecycle\nSpotlight best practices around successful use of digital tools in project planning\, delivery\, and operations\n\nThe session will bring together a mixed group from industry and government in a workshop format for the day. \nArup have kindly offered to host the session at their Toronto office. \nThis event is invite only. 
URL:https://infrastructurelab.com/event/unlocking-digital-twins-in-canadian-infrastructure/
LOCATION:Arup\, 121 Bloor Street East\, Suite 900\, Toronto\, Ontario\, M4W 3M5\, Canada
CATEGORIES:FIG,Governance,Invite Only
END:VEVENT
BEGIN:VEVENT
DTSTART;TZID=UTC:20260126T170000
DTEND;TZID=UTC:20260126T190000
DTSTAMP:20260422T221729
CREATED:20260121T161553Z
LAST-MODIFIED:20260121T161553Z
UID:1774-1769446800-1769454000@infrastructurelab.com
SUMMARY:Digital Twin Paper Launch - Toronto
DESCRIPTION:Please join us for the launch of our new Digital Twin report in Toronto on January 26. We are fortunate to be joined by the Honorable Todd McCarthy\, Ontario’s Acting Minister of Infrastructure who will provide remarks on the province’s ambitious infrastructure investments and efforts to drive innovation in the sector. \nWe will then have a presentation of the report and a panel discussion\, and wrap up with a reception. Our panelists include: \n\nAmar Singh\, from Infrastructure Ontario\nLindsay English\, from Arup\nYuri Bartzis\, from Pomerleau\nDwayne Torrey\, from the Canadian Standards Association\nJohn Allen\, from the Future of Infrastructure Group/Global Public Affairs\n\n\nDetails: \nDate: Monday\, January 26th \nTime: 5:00pm-7:00pm (doors open 4:30pm) \nLocation: Arup\, 121 Bloor St E Suite 900\, Toronto \n\nThank you to Arup for kindly hosting and chairing this initiative.
URL:https://infrastructurelab.com/event/digital-twin-paper-launch-toronto/
LOCATION:Ontario
CATEGORIES:FIG,Invite Only
END:VEVENT
BEGIN:VEVENT
DTSTART;TZID=UTC:20260323T170000
DTEND;TZID=UTC:20260323T200000
DTSTAMP:20260422T221729
CREATED:20260310T193049Z
LAST-MODIFIED:20260310T193049Z
UID:1807-1774285200-1774296000@infrastructurelab.com
SUMMARY:FIG Ottawa Reception
DESCRIPTION:Join us for a networking reception with FIG members and the Ottawa infrastructure community. \nThis reception is kindly sponsored by ARUP.
URL:https://infrastructurelab.com/event/fig-ottawa-reception/
LOCATION:Beyond the Pale\, 21 George Street\, Ottawa\, Ontario\, K1N 8W5\, Canada
CATEGORIES:FIG,Invite Only
END:VEVENT
END:VCALENDAR