BEGIN:VCALENDAR
VERSION:2.0
PRODID:-//The Infrastructure Lab - ECPv6.15.19//NONSGML v1.0//EN
CALSCALE:GREGORIAN
METHOD:PUBLISH
X-ORIGINAL-URL:https://infrastructurelab.com
X-WR-CALDESC:Events for The Infrastructure Lab
REFRESH-INTERVAL;VALUE=DURATION:PT1H
X-Robots-Tag:noindex
X-PUBLISHED-TTL:PT1H
BEGIN:VTIMEZONE
TZID:UTC
BEGIN:STANDARD
TZOFFSETFROM:+0000
TZOFFSETTO:+0000
TZNAME:UTC
DTSTART:20220101T000000
END:STANDARD
END:VTIMEZONE
BEGIN:VEVENT
DTSTART;TZID=UTC:20231018T090000
DTEND;TZID=UTC:20231018T163000
DTSTAMP:20260421T142832
CREATED:20230830T203038Z
LAST-MODIFIED:20240306T195538Z
UID:1427-1697619600-1697646600@infrastructurelab.com
SUMMARY:Joint Event - Buy Clean Industry Alliance and Future of Infrastructure Group
DESCRIPTION:With unprecedented levels of investment in infrastructure across Canada and a federal commitment to reach net zero emissions by 2050\, the infrastructure sector is facing a transformative period. Governments at the federal and subnational levels are implementing Buy Clean policies to mandate lower-carbon construction. Adopting these standards within project budgets and timelines will require the infrastructure supply chain to adapt. \nTo turn this challenge into an opportunity\, the Buy Clean Industry Alliance and the Future of Infrastructure Group have come together to host a workshop with a select group of industry leaders and experts from across the sector. The aim is to map out a workable path to implementing Buy Clean requirements and adopting low-carbon building materials and practices. \nThis event is by invite only.
URL:https://infrastructurelab.com/event/joint-event-buy-clean-industry-alliance-and-future-of-infrastructure-group/
LOCATION:Toronto
CATEGORIES:Buy Clean,FIG,Infrastructure Lab,Invite Only,Net Zero
ATTACH;FMTTYPE=image/png:https://infrastructurelab.com/wp-content/uploads/2023/08/BUYCLEANWORKSHOP.png
END:VEVENT
END:VCALENDAR